BEGIN:VCALENDAR
VERSION:2.0
PRODID:-//Colorado Restaurant Association - ECPv6.15.20//NONSGML v1.0//EN
CALSCALE:GREGORIAN
METHOD:PUBLISH
X-WR-CALNAME:Colorado Restaurant Association
X-ORIGINAL-URL:https://corestaurant.org
X-WR-CALDESC:Events for Colorado Restaurant Association
REFRESH-INTERVAL;VALUE=DURATION:PT1H
X-Robots-Tag:noindex
X-PUBLISHED-TTL:PT1H
BEGIN:VTIMEZONE
TZID:America/Denver
BEGIN:DAYLIGHT
TZOFFSETFROM:-0700
TZOFFSETTO:-0600
TZNAME:MDT
DTSTART:20240310T090000
END:DAYLIGHT
BEGIN:STANDARD
TZOFFSETFROM:-0600
TZOFFSETTO:-0700
TZNAME:MST
DTSTART:20241103T080000
END:STANDARD
BEGIN:DAYLIGHT
TZOFFSETFROM:-0700
TZOFFSETTO:-0600
TZNAME:MDT
DTSTART:20250309T090000
END:DAYLIGHT
BEGIN:STANDARD
TZOFFSETFROM:-0600
TZOFFSETTO:-0700
TZNAME:MST
DTSTART:20251102T080000
END:STANDARD
BEGIN:DAYLIGHT
TZOFFSETFROM:-0700
TZOFFSETTO:-0600
TZNAME:MDT
DTSTART:20260308T090000
END:DAYLIGHT
BEGIN:STANDARD
TZOFFSETFROM:-0600
TZOFFSETTO:-0700
TZNAME:MST
DTSTART:20261101T080000
END:STANDARD
END:VTIMEZONE
BEGIN:VEVENT
DTSTART;TZID=America/Denver:20250722T123000
DTEND;TZID=America/Denver:20250722T203000
DTSTAMP:20260421T061005
CREATED:20250128T190305Z
LAST-MODIFIED:20250522T194002Z
UID:10000655-1753187400-1753216200@corestaurant.org
SUMMARY:2025 Rocky Mountain Golf Classic
DESCRIPTION:Please join us on July 22nd from 12:30 to 8:30 p.m. for the 23rd annual Rocky Mountain Golf Classic at Arrowhead Golf Course. \nThis day of fun\, golf\, and networking benefits the CRA Government Affairs programs. \nThere are a variety of ways you can support this event and the cause it benefits. We offer single and group registration\, multiple sponsorship opportunities\, and you could even sponsor members of your team to join us for this fun day as a retention tool\, rewarding those staff members who are making a difference for your business. \nLearn more and sign up to participate today! \n12:30-1:30pm: Registration & Check-in \n2:00pm: Shotgun Start \n7:00-8:30pm: Reception
URL:https://corestaurant.org/event/2025-rocky-mountain-golf-classic/
LOCATION:Arrowhead Golf Club\, 10850 Sundown Trail\, Littleton\, 80125
CATEGORIES:CRF Events
ATTACH;FMTTYPE=image/png:https://corestaurant.org/wp-content/uploads/2025/01/RMGC-e1738091176101.png
END:VEVENT
END:VCALENDAR