BEGIN:VCALENDAR
VERSION:2.0
PRODID:-//Colorado Restaurant Association - ECPv6.15.20//NONSGML v1.0//EN
CALSCALE:GREGORIAN
METHOD:PUBLISH
X-ORIGINAL-URL:https://corestaurant.org
X-WR-CALDESC:Events for Colorado Restaurant Association
REFRESH-INTERVAL;VALUE=DURATION:PT1H
X-Robots-Tag:noindex
X-PUBLISHED-TTL:PT1H
BEGIN:VTIMEZONE
TZID:America/Denver
BEGIN:DAYLIGHT
TZOFFSETFROM:-0700
TZOFFSETTO:-0600
TZNAME:MDT
DTSTART:20250309T090000
END:DAYLIGHT
BEGIN:STANDARD
TZOFFSETFROM:-0600
TZOFFSETTO:-0700
TZNAME:MST
DTSTART:20251102T080000
END:STANDARD
BEGIN:DAYLIGHT
TZOFFSETFROM:-0700
TZOFFSETTO:-0600
TZNAME:MDT
DTSTART:20260308T090000
END:DAYLIGHT
BEGIN:STANDARD
TZOFFSETFROM:-0600
TZOFFSETTO:-0700
TZNAME:MST
DTSTART:20261101T080000
END:STANDARD
BEGIN:DAYLIGHT
TZOFFSETFROM:-0700
TZOFFSETTO:-0600
TZNAME:MDT
DTSTART:20270314T090000
END:DAYLIGHT
BEGIN:STANDARD
TZOFFSETFROM:-0600
TZOFFSETTO:-0700
TZNAME:MST
DTSTART:20271107T080000
END:STANDARD
END:VTIMEZONE
BEGIN:VEVENT
DTSTART;VALUE=DATE:20261003
DTEND;VALUE=DATE:20261011
DTSTAMP:20260419T121457
CREATED:20251114T161445Z
LAST-MODIFIED:20251114T161445Z
UID:10000739-1790985600-1791676799@corestaurant.org
SUMMARY:Steamboat Restaurant Week
DESCRIPTION:Steamboat Restaurant Week is taking place October 3 – 10\, 2026. \nCalling all food lovers! This delicious annual tradition is your chance to taste your way through some of Steamboat’s best local flavors. From sunrise scrambles to late-night bites\, participating restaurants will be dishing up special menus\, tasty deals\, and can’t-miss culinary creations all week long. \nWhether you’re a fine-dining foodie or a casual comfort food connoisseur\, there’s something to make your mouth water.Reservations are highly recommended—these bites go fast! \nLearn more. 
URL:https://corestaurant.org/event/steamboat-restaurant-week/
CATEGORIES:Steamboat Springs Chapter
END:VEVENT
END:VCALENDAR