BEGIN:VCALENDAR
VERSION:2.0
PRODID:-//Colorado Restaurant Association - ECPv6.15.20//NONSGML v1.0//EN
CALSCALE:GREGORIAN
METHOD:PUBLISH
X-WR-CALNAME:Colorado Restaurant Association
X-ORIGINAL-URL:https://corestaurant.org
X-WR-CALDESC:Events for Colorado Restaurant Association
REFRESH-INTERVAL;VALUE=DURATION:PT1H
X-Robots-Tag:noindex
X-PUBLISHED-TTL:PT1H
BEGIN:VTIMEZONE
TZID:America/Denver
BEGIN:DAYLIGHT
TZOFFSETFROM:-0700
TZOFFSETTO:-0600
TZNAME:MDT
DTSTART:20250309T090000
END:DAYLIGHT
BEGIN:STANDARD
TZOFFSETFROM:-0600
TZOFFSETTO:-0700
TZNAME:MST
DTSTART:20251102T080000
END:STANDARD
BEGIN:DAYLIGHT
TZOFFSETFROM:-0700
TZOFFSETTO:-0600
TZNAME:MDT
DTSTART:20260308T090000
END:DAYLIGHT
BEGIN:STANDARD
TZOFFSETFROM:-0600
TZOFFSETTO:-0700
TZNAME:MST
DTSTART:20261101T080000
END:STANDARD
BEGIN:DAYLIGHT
TZOFFSETFROM:-0700
TZOFFSETTO:-0600
TZNAME:MDT
DTSTART:20270314T090000
END:DAYLIGHT
BEGIN:STANDARD
TZOFFSETFROM:-0600
TZOFFSETTO:-0700
TZNAME:MST
DTSTART:20271107T080000
END:STANDARD
END:VTIMEZONE
BEGIN:VEVENT
DTSTART;TZID=America/Denver:20260311T100000
DTEND;TZID=America/Denver:20260311T110000
DTSTAMP:20260423T051616
CREATED:20260309T173409Z
LAST-MODIFIED:20260309T180137Z
UID:10000768-1773223200-1773226800@corestaurant.org
SUMMARY:WEBINAR: How to Market Your Restaurant: Thriving in the Age of AI-Driven Discovery
DESCRIPTION:[vc_row type=”in_container” full_screen_row_position=”middle” column_margin=”default” column_direction=”default” column_direction_tablet=”default” column_direction_phone=”default” scene_position=”center” text_color=”dark” text_align=”left” row_border_radius=”none” row_border_radius_applies=”bg” overflow=”visible” overlay_strength=”0.3″ gradient_direction=”left_to_right” shape_divider_position=”bottom” bg_image_animation=”none”][vc_column column_padding=”no-extra-padding” column_padding_tablet=”inherit” column_padding_phone=”inherit” column_padding_position=”all” column_element_direction_desktop=”default” column_element_spacing=”default” desktop_text_alignment=”default” tablet_text_alignment=”default” phone_text_alignment=”default” background_color_opacity=”1″ background_hover_color_opacity=”1″ column_backdrop_filter=”none” column_shadow=”none” column_border_radius=”none” column_link_target=”_self” column_position=”default” gradient_direction=”left_to_right” overlay_strength=”0.3″ width=”1/1″ tablet_width_inherit=”default” animation_type=”default” bg_image_animation=”none” border_type=”simple” column_border_width=”none” column_border_style=”solid”][vc_column_text] The way customers discover restaurants right now is evolving at lightning speed. With AI tools like ChatGPT and Google Gemini providing instant answers and summaries\, fewer people are visiting websites or local listings directly. Instead\, they’re relying on AI-driven platforms to decide where to dine. \nHow can Colorado restaurants stay visible\, competitive\, and relevant in this new digital landscape? This beginner-friendly webinar is designed specifically for local restaurant owners and marketing teams. Our marketing partners at See Deep Local will break down the basics of local SEO; explore the impact of AI on search behavior; and share DIY strategies like sentiment analysis\, content curation\, and brand consistency to help your restaurant stand out. \nFrom optimizing your Google Business Profile to leveraging AI tools for marketing and operations\, this session will give you the tools and confidence you need to thrive in the age of AI. \nWhether you’re a tech novice or looking to sharpen your digital-marketing skills\, this webinar is your roadmap to staying ahead of the curve and capturing more customers in the AI era. \n  \nREGISTER HERE! \nAnd immediately after the session\, Jack from See Deep will hold Zoom office hours to answer any specific questions you have about your business. See link below! \nhttps://us06web.zoom.us/j/2920456813?pwd=ZVFBYTArY3Z1aEhWQjA1Yytya0ZFdz09 \nMeeting ID: 292 045 6813\nPasscode: PJAv8Q
URL:https://corestaurant.org/event/webinar-how-to-market-your-restaurant/
LOCATION:Zoom\, CO\, United States
CATEGORIES:CRA Events,Webinar
END:VEVENT
END:VCALENDAR